BEGIN:VCALENDAR
VERSION:2.0
PRODID:-//wp-events-plugin.com//7.0.5//EN
TZID:Europe/Berlin
X-WR-TIMEZONE:Europe/Berlin
BEGIN:VEVENT
UID:23@budo-erfurt.de
DTSTART;TZID=Europe/Berlin:20261202T190000
DTEND;TZID=Europe/Berlin:20261202T210000
DTSTAMP:20251221T131725Z
URL:https://budo-erfurt.de/events/vorstands-und-trainersitzung-4/
SUMMARY:Vorstands- und Trainersitzung
DESCRIPTION:Ort wird noch bekanntgegeben.
ATTACH;FMTTYPE=image/jpeg:https://budo-erfurt.de/wp-content/uploads/Traine
 rsitzung.jpg
CATEGORIES:Vorstands- und Trainersitzung
END:VEVENT
BEGIN:VTIMEZONE
TZID:Europe/Berlin
X-LIC-LOCATION:Europe/Berlin
BEGIN:STANDARD
DTSTART:20261025T020000
TZOFFSETFROM:+0200
TZOFFSETTO:+0100
TZNAME:CET
END:STANDARD
END:VTIMEZONE
END:VCALENDAR