BEGIN:VCALENDAR
VERSION:2.0
PRODID:-//wp-events-plugin.com//7.0.5//EN
TZID:Europe/Berlin
X-WR-TIMEZONE:Europe/Berlin
BEGIN:VEVENT
UID:22@budo-erfurt.de
DTSTART;TZID=Europe/Berlin:20260819T190000
DTEND;TZID=Europe/Berlin:20260819T210000
DTSTAMP:20251221T131705Z
URL:https://budo-erfurt.de/events/vorstands-und-trainersitzung-3/
SUMMARY:Vorstands- und Trainersitzung
DESCRIPTION:Ort wird noch bekanntgegeben.
ATTACH;FMTTYPE=image/jpeg:https://budo-erfurt.de/wp-content/uploads/Traine
 rsitzung.jpg
CATEGORIES:Vorstands- und Trainersitzung
END:VEVENT
BEGIN:VTIMEZONE
TZID:Europe/Berlin
X-LIC-LOCATION:Europe/Berlin
BEGIN:DAYLIGHT
DTSTART:20260329T030000
TZOFFSETFROM:+0100
TZOFFSETTO:+0200
TZNAME:CEST
END:DAYLIGHT
END:VTIMEZONE
END:VCALENDAR