BEGIN:VCALENDAR
VERSION:2.0
PRODID:-//wp-events-plugin.com//7.0.5//EN
TZID:Europe/Berlin
X-WR-TIMEZONE:Europe/Berlin
BEGIN:VEVENT
UID:3@budo-erfurt.de
DTSTART;TZID=Europe/Berlin:20250107T190000
DTEND;TZID=Europe/Berlin:20261231T203000
DTSTAMP:20241228T143320Z
URL:https://budo-erfurt.de/events/training/
SUMMARY:Training
DESCRIPTION:Unser wöchentliches Training findet jeden Dienstag\, Mittwoch 
 und Donnerstag jeweils von 19 Uhr – 20:30 Uhr im Dojo in der Domsporthal
 le statt.\n\nAusnahmen sind die Weihnachtszeit und die Sommerferienzeit in
  Thüringen.
ATTACH;FMTTYPE=image/jpeg:https://budo-erfurt.de/wp-content/uploads/Ninjut
 su_208-scaled.jpg
CATEGORIES:Training
LOCATION:Domsporthalle\, Domstraße 1f\, Erfurt\, Thüringen\, 99086\, Domp
 latz\, Deutschland
X-APPLE-STRUCTURED-LOCATION;VALUE=URI;X-ADDRESS=Domstraße 1f\, Erfurt\, Th
 üringen\, 99086\, Domplatz\, Deutschland;X-APPLE-RADIUS=100;X-TITLE=Domsp
 orthalle:geo:0,0
END:VEVENT
BEGIN:VTIMEZONE
TZID:Europe/Berlin
X-LIC-LOCATION:Europe/Berlin
BEGIN:STANDARD
DTSTART:20241027T020000
TZOFFSETFROM:+0200
TZOFFSETTO:+0100
TZNAME:CET
END:STANDARD
BEGIN:DAYLIGHT
DTSTART:20250330T030000
TZOFFSETFROM:+0100
TZOFFSETTO:+0200
TZNAME:CEST
END:DAYLIGHT
BEGIN:STANDARD
DTSTART:20251026T020000
TZOFFSETFROM:+0200
TZOFFSETTO:+0100
TZNAME:CET
END:STANDARD
BEGIN:DAYLIGHT
DTSTART:20260329T030000
TZOFFSETFROM:+0100
TZOFFSETTO:+0200
TZNAME:CEST
END:DAYLIGHT
BEGIN:STANDARD
DTSTART:20261025T020000
TZOFFSETFROM:+0200
TZOFFSETTO:+0100
TZNAME:CET
END:STANDARD
END:VTIMEZONE
END:VCALENDAR