BEGIN:VCALENDAR
VERSION:2.0
PRODID:-//wp-events-plugin.com//7.0.5//EN
TZID:Europe/Berlin
X-WR-TIMEZONE:Europe/Berlin
BEGIN:VEVENT
UID:2@budo-erfurt.de
DTSTART;TZID=Europe/Berlin:20250107T190000
DTEND;TZID=Europe/Berlin:20261231T203000
DTSTAMP:20241228T143230Z
URL:https://budo-erfurt.de/events/probetraining/
SUMMARY:Probetraining
DESCRIPTION:Die Teilnahme an einem Probetraining ist jederzeit möglich\,
  vorzugsweise an einem Dienstag oder Donnerstag. Ausnahmen sind die Weihna
 chtszeit und die Sommerferienzeit in Thüringen. Melde Dich einfach kurz b
 ei uns (siehe Kontakt\, per eMail oder per SMS/Whatsapp).
ATTACH;FMTTYPE=image/jpeg:https://budo-erfurt.de/wp-content/uploads/Probet
 raining.png
CATEGORIES:Probetraining
LOCATION:Domsporthalle\, Domstraße 1f\, Erfurt\, Thüringen\, 99086\, Domp
 latz\, Deutschland
X-APPLE-STRUCTURED-LOCATION;VALUE=URI;X-ADDRESS=Domstraße 1f\, Erfurt\, Th
 üringen\, 99086\, Domplatz\, Deutschland;X-APPLE-RADIUS=100;X-TITLE=Domsp
 orthalle:geo:0,0
END:VEVENT
BEGIN:VTIMEZONE
TZID:Europe/Berlin
X-LIC-LOCATION:Europe/Berlin
BEGIN:STANDARD
DTSTART:20241027T020000
TZOFFSETFROM:+0200
TZOFFSETTO:+0100
TZNAME:CET
END:STANDARD
BEGIN:DAYLIGHT
DTSTART:20250330T030000
TZOFFSETFROM:+0100
TZOFFSETTO:+0200
TZNAME:CEST
END:DAYLIGHT
BEGIN:STANDARD
DTSTART:20251026T020000
TZOFFSETFROM:+0200
TZOFFSETTO:+0100
TZNAME:CET
END:STANDARD
BEGIN:DAYLIGHT
DTSTART:20260329T030000
TZOFFSETFROM:+0100
TZOFFSETTO:+0200
TZNAME:CEST
END:DAYLIGHT
BEGIN:STANDARD
DTSTART:20261025T020000
TZOFFSETFROM:+0200
TZOFFSETTO:+0100
TZNAME:CET
END:STANDARD
END:VTIMEZONE
END:VCALENDAR