BEGIN:VCALENDAR
VERSION:2.0
PRODID:-//wp-events-plugin.com//7.0.5//EN
TZID:Europe/Berlin
X-WR-TIMEZONE:Europe/Berlin
BEGIN:VEVENT
UID:34@budo-erfurt.de
DTSTART;TZID=Europe/Berlin:20260822T090000
DTEND;TZID=Europe/Berlin:20260822T180000
DTSTAMP:20260405T093607Z
URL:https://budo-erfurt.de/events/paddeltour-3-0/
SUMMARY:Paddeltour 3.0.
DESCRIPTION:
ATTACH;FMTTYPE=image/jpeg:https://budo-erfurt.de/wp-content/uploads/IMG-20
 250614-WA0065.jpg
CATEGORIES:Vereinsfreizeit
LOCATION:Campingplatz Blütengrund Naumburg\, Blütengrund 6\, Naumburg\, S
 achsen-Anhalt\, 06618\, Deutschland
X-APPLE-STRUCTURED-LOCATION;VALUE=URI;X-ADDRESS=Blütengrund 6\, Naumburg\,
  Sachsen-Anhalt\, 06618\, Deutschland;X-APPLE-RADIUS=100;X-TITLE=Campingpl
 atz Blütengrund Naumburg:geo:0,0
END:VEVENT
BEGIN:VTIMEZONE
TZID:Europe/Berlin
X-LIC-LOCATION:Europe/Berlin
BEGIN:DAYLIGHT
DTSTART:20260329T030000
TZOFFSETFROM:+0100
TZOFFSETTO:+0200
TZNAME:CEST
END:DAYLIGHT
END:VTIMEZONE
END:VCALENDAR