BEGIN:VCALENDAR
VERSION:2.0
PRODID:-//wp-events-plugin.com//7.0.5//EN
TZID:Europe/Berlin
X-WR-TIMEZONE:Europe/Berlin
BEGIN:VEVENT
UID:32@budo-erfurt.de
DTSTART;TZID=Europe/Berlin:20261121T100000
DTEND;TZID=Europe/Berlin:20261121T160000
DTSTAMP:20260310T153008Z
URL:https://budo-erfurt.de/events/landespruefung-tjjv/
SUMMARY:Landesprüfung TJJV
DESCRIPTION:
ATTACH;FMTTYPE=image/jpeg:https://budo-erfurt.de/wp-content/uploads/blackb
 elt.jpg
CATEGORIES:Kyu-/Dan-Prüfung
LOCATION:Parkturnhalle / DOJO des PSV Meiningen 90 e.V.\, Karlsallee in 986
 17 Meiningen\, Meiningen\, Thüringen\, 98617\, Deutschland
X-APPLE-STRUCTURED-LOCATION;VALUE=URI;X-ADDRESS=Karlsallee in 98617 Meining
 en\, Meiningen\, Thüringen\, 98617\, Deutschland;X-APPLE-RADIUS=100;X-TIT
 LE=Parkturnhalle / DOJO des PSV Meiningen 90 e.V.:geo:0,0
END:VEVENT
BEGIN:VTIMEZONE
TZID:Europe/Berlin
X-LIC-LOCATION:Europe/Berlin
BEGIN:STANDARD
DTSTART:20261025T020000
TZOFFSETFROM:+0200
TZOFFSETTO:+0100
TZNAME:CET
END:STANDARD
END:VTIMEZONE
END:VCALENDAR