BEGIN:VCALENDAR
VERSION:2.0
PRODID:-//wp-events-plugin.com//7.0.5//EN
TZID:Europe/Berlin
X-WR-TIMEZONE:Europe/Berlin
BEGIN:VEVENT
UID:27@budo-erfurt.de
DTSTART;TZID=Europe/Berlin:20260425T100000
DTEND;TZID=Europe/Berlin:20260425T140000
DTSTAMP:20260325T085015Z
URL:https://budo-erfurt.de/events/landeslehrgang-realistische-selbstvertei
 digung/
SUMMARY:Landeslehrgang Realistische Selbstverteidigung
DESCRIPTION:Referent:\n\n 	Silvio Birkenwald\n\nOrt:\n\n 	Dojo EKC Erfurt e
 .V.\, Meuselwitzer Str. 5\, 99092 Erfurt-Marbach\n
ATTACH;FMTTYPE=image/jpeg:https://budo-erfurt.de/wp-content/uploads/LL-SV-
 HP.jpg
CATEGORIES:Ju-Jutsu Lehrgang
LOCATION:EKC Erfurt\, Meuselwitzer Straße 5\, Erfurt\, Thüringen\, 99092\
 , Deutschland
X-APPLE-STRUCTURED-LOCATION;VALUE=URI;X-ADDRESS=Meuselwitzer Straße 5\, Er
 furt\, Thüringen\, 99092\, Deutschland;X-APPLE-RADIUS=100;X-TITLE=EKC Erf
 urt:geo:0,0
END:VEVENT
BEGIN:VTIMEZONE
TZID:Europe/Berlin
X-LIC-LOCATION:Europe/Berlin
BEGIN:DAYLIGHT
DTSTART:20260329T030000
TZOFFSETFROM:+0100
TZOFFSETTO:+0200
TZNAME:CEST
END:DAYLIGHT
END:VTIMEZONE
END:VCALENDAR