BEGIN:VCALENDAR
VERSION:2.0
PRODID:-//wp-events-plugin.com//7.0.5//EN
TZID:Europe/Berlin
X-WR-TIMEZONE:Europe/Berlin
BEGIN:VEVENT
UID:29@budo-erfurt.de
DTSTART;TZID=Europe/Berlin:20260620T100000
DTEND;TZID=Europe/Berlin:20260620T140000
DTSTAMP:20260108T164000Z
URL:https://budo-erfurt.de/events/landeslehrgang-realistische-messerabwehr
 -und-anwendung/
SUMMARY:Landeslehrgang realistische Messerabwehr und -anwendung
DESCRIPTION:Referent:\n\n 	Silvio Birkenwald\n\nOrt:\n\n 	wird noch bekannt
 gegeben\n
ATTACH;FMTTYPE=image/jpeg:https://budo-erfurt.de/wp-content/uploads/LL-Mes
 ser-HP.jpg
END:VEVENT
BEGIN:VTIMEZONE
TZID:Europe/Berlin
X-LIC-LOCATION:Europe/Berlin
BEGIN:DAYLIGHT
DTSTART:20260329T030000
TZOFFSETFROM:+0100
TZOFFSETTO:+0200
TZNAME:CEST
END:DAYLIGHT
END:VTIMEZONE
END:VCALENDAR