BEGIN:VCALENDAR
VERSION:2.0
PRODID:-//wp-events-plugin.com//7.0.5//EN
TZID:Europe/Berlin
X-WR-TIMEZONE:Europe/Berlin
BEGIN:VEVENT
UID:28@budo-erfurt.de
DTSTART;TZID=Europe/Berlin:20260530T100000
DTEND;TZID=Europe/Berlin:20260530T140000
DTSTAMP:20260108T163802Z
URL:https://budo-erfurt.de/events/1-pruefungsvorbereitungslehrgang-tjjv/
SUMMARY:1. Prüfungsvorbereitungslehrgang TJJV
DESCRIPTION:Referent:\n\n 	Dr. Michael Pechan\n\nOrt:\n\n 	wird noch bekann
 tgegeben\n
ATTACH;FMTTYPE=image/jpeg:https://budo-erfurt.de/wp-content/uploads/DANRHO
 -Judo-Ju-Jutsu-Guertel-4-cm-breit-DANRHO-338001260-1.jpg
CATEGORIES:Kyu-/Dan-Vorbereitungslehrgang
END:VEVENT
BEGIN:VTIMEZONE
TZID:Europe/Berlin
X-LIC-LOCATION:Europe/Berlin
BEGIN:DAYLIGHT
DTSTART:20260329T030000
TZOFFSETFROM:+0100
TZOFFSETTO:+0200
TZNAME:CEST
END:DAYLIGHT
END:VTIMEZONE
END:VCALENDAR